Workbook
Name Anlagenleistung: #REF!
Name Anlagenpreis: #REF!
Name AnlagenpreisPV: #REF!
Name Auszahlung1: #REF!
Name BatteriespeicherJN: #REF!
Name Beginning_Balance: -FV(Interest_Rate/12,Payment_Number-1,-Monthly_Payment,Loan_Amount)
Name Bereitstellung1: #REF!
Name Dachmiete: #REF!
Name Direktnutzung: #REF!
Name Direktnutzung_Batteriespeicher: #REF!
Name Direktvermarktung: #REF!
Name EEG_Vergütung: #REF!
Name eegUmlage: #REF!
Name eegUmlageAnteil: #REF!
Name EigenkapitalZuAnfang: #REF!
Name EigennutzungSpeicher: #REF!
Name Einspeisetarif: #REF!
Name Ending_Balance: -FV(Interest_Rate/12,Payment_Number,-Monthly_Payment,Loan_Amount)
Name Ertragsminderung: #REF!
Name Gewerbe: #REF!
Name Grundgebühr: #REF!
Name Header_Row: ROW(#REF!)
Name IBNJahr: #REF!
Name IBNMonat: #REF!
Name Inflationsrate: #REF!
Name Interest: -IPMT(Interest_Rate/12,Payment_Number,Number_of_Payments,Loan_Amount)
Name Interest_Rate: #REF!
Name Investitionsabzug: #REF!
Name Jahre: #REF!
Name Kapitalwert: #REF!
Name Kleinunternehmer: #REF!
Name Kredit1: #REF!
Name Kredit2: #REF!
Name KUR: #REF!
Name kWp: #REF!
Name Ladeverluste: #REF!
Name Laufzeit1: #REF!
Name Laufzeit2: #REF!
Name LfdKosten: #REF!
Name Loan_Amount: #REF!
Name Loan_Not_Paid: IF(Payment_Number<=Number_of_Payments,1,0)
Name Loan_Start: #REF!
Name Loan_Years: #REF!
Name Monthly_Payment: -PMT(Interest_Rate/12,Number_of_Payments,Loan_Amount)
Name MwSt_Satz: #REF!
Name Number_of_Payments: #REF!
Name Payment_Date: DATE(YEAR(Loan_Start),MONTH(Loan_Start)+Payment_Number,DAY(Loan_Start))
Name Payment_Number: ROW()-Header_Row
Name Principal: -PPMT(Interest_Rate/12,Payment_Number,Number_of_Payments,Loan_Amount)
Name ProgVersion: #REF!
Name Sonderabschreibung: #REF!
Name Speicherdegradation: #REF!
Name Steuerbefreiung: #REF!
Name Steuersatz1: #REF!
Name Steuersatz2: #REF!
Name StromerlösDirektvermarktung: #REF!
Name Stromertrag: #REF!
Name StrompreisNetto: #REF!
Name Strompreissteigerung: #REF!
Name Stromverbrauch: #REF!

Sheet Info
B2: Model Levelized Cost of Electricity | E2: v2024-02-23
B4: Features of this calculation tool
B5: With this LCoE Excel spreadsheet it is possible to calculate crucial economic parameters for a Renewable Energy System (RES) for a period of up to 30 years.
B6: Economic performance parameters are: LCoE, NPV, IRR and Payback period. These are provded - together with some explanations and guideance - at sheet "Inputs & Results"
B8: Created by: | C8: PSE Projects GmbH | H8: Although this calculation tool has been extensively tested, no liability can be accepted for the accuracy of the calculations. For economic decisions, a comparison tool (such as PV GIS or a commercial design and simulation tool) should always be used to rule out errors. The creators of this calculation tool exclude any liability for possible damages that may result from its use.
C9: www.pse-projects.de
C10: Feedback to:
C11: warmuth@pse-projects.de
B13: To use this workbook:
B15: 1. | C15: Start with the Sheet 'Inputs & Results' and complete the light blue marked cells undert the headline "Project Specific Inputs"
B16: .2 | C16: The results (economic performance parameters) can be found at the same Sheet 'Inputs & Results' and starting with the headline "Levelized Cost of Electricity"
B17: 3. | C17: A visualisation of the cumulated cash flow is provided in sheet 'Payback'
B18: 4. | C18: Sheet 'Calculations' is considered to be an auxiliary table and should NOT be changed.
B19: 5. | C19: For 1000 m² of land about 60 kWp Agrivoltaic system can be installed for arable farming [1]. With this information, you can calculate the actual capacity of your Agrivoltaic system with a given piece of land. This should be sufficiently accurate for a rough economic assessment.
B26: Colour & Format code | E26: Source:
B27: Input parameters | E27: [1] | F27: Hermann, C. et al. (2022) Agrivoltaics : Opportunities for Agri- culture and the Energy Transition Publishing notes.
F28: Available at: | G28: https://www.ise.fraunhofer.de/content/dam/ise/en/documents/publications/studies/APV-Guideline.pdf | O28: p. 33
B29: Results
B31: Explanations
B36: Changelog:
B37: 45314 | C37: Optimal Azimuth changed to -147° (according to PV GIS optimised Azimuth); Cost of capital (interest rates) included; Missing formula in sheet “Calculations” in cell 'C65' fixed (thanks to feedback from Brendon Bingwa, ISE); Error message intercepted in "Calculations" sheet.
B38: 45323 | C38: Sheets for sensitivity analysis with Macros added.
B39: 45330 | C39: Bug fixed: When inserting loan calculation, the CAPEX was doubled. Cross-check with a tool for Germany was successful.
B40: 45344 | C40: Final check by Brendon Bingwa from Fraunhofer ISE and by Werner Warmuth.
B41: 45345 | C41: Absolute LCOE Sensitivity added in Sheet 'SensitivityLCOE' by Werner Warmuth.

Sheet Inputs&Results
B2: Project Specific Inputs
B4: General | F4: Explanations for these values
B6: Time period | C6: 18 | D6: years | F6: The feed-in tariff is granted for 18 years in Mauritius
B7: Inflation rate | C7: 0.071408475 | D7: % | F7: Average annual inflation rate between 1964 and 2022
B8: Nominal interest rate | C8: 0.07 | D8: % | F8: 7.0% discount rate for Mauritius was recommended. This value is used as the discount factor to calculate the LCOE without considering the WACC table.
B10: System
B12: Specific yield | C12: 1500 | D12: kWh/kWp | F12: see PVGIS | G12: Mauritius GPS coordinates (middle of the island) are: -20.275, 57.570; optimal slope angle 20°. The azimuth, or orientation, is the angle of the PV modules relative to the direction due South. - 90° is East, 0° is South, 90° is West and ±180° is North.
B13: Nominal capacity of the system | C13: 1 | D13: kWp
B14: Energy generated | C14: =C12*C13 -> 1500 | D14: kWh
B15: Annual degradation | C15: 0.003 | D15: % | F15: Typical annual degradation of PV panel performance
B17: Operation and Maintenance
B19: Maintenance & Operation | C19: =2%*C25 -> 32 | D19: EUR | F19: Typically 2% of CAPEX per year
B20: Yearly increase in O&M costs | C20: 0.02 | D20: % | F20: Conservative assumption that O&M costs will increase
B22: Capital costs
B24: Investment | C24: 1600 | D24: EUR/kWp
C25: =C24*C13 -> 1600 | D25: EUR
B26: Equity | C26: 0.2 | D26: % | F26: Typical equity rate
B27: Debt | C27: =1-C26 -> 0.8 | D27: %
B28: Cost of equity | C28: 0.07 | D28: % | F28: To use 7% discount rate was recommended for Mauritius. No repayment of interest is considered. Insert "0" if the capital costs for equity are not to be taken into account in the calculation.
B29: Cost of debt | C29: 0.07 | D29: % | F29: To use 7% discount rate was recommended for Mauritius. No repayment of interest is considered. Insert "0" if the cost of capital for borrowed capital is not to be included in the calculation.
B30: Tax rate | C30: 0.15 | D30: % | F30: This value has only an influence if nominal WACC is considered.
B31: Equity: Debt ratio | C31: =C26/C27 -> 0.25
B33: Income
B35: Energy sale price | C35: 0.0849 | D35: EUR/kWh | F35: Standard FIT tariff in Mauritius of Rs 4.2/kWh used for calculation | L35: https://www.xe.com/de/currencyconverter/convert/?Amount=4.2&From=MUR&To=EUR
B37: Annual profit or loss from agriculture | C37: 0 | D37: EUR | F37: Choose zero if no impact from agriculture shall be considered in the LCOE calculation. For costs, a negative value has to be inserted, for profit a positive value.
B39: Results
B41: Levelized Cost of Electricity
B43: The LCoE takes into account the total cost of building and operating the energy-generating asset, including factors such as upfront capital costs, annual operating expenses, and the expected lifetime of the system. It is a crucial metric for comparing the cost of electricity generation from different sources and for assessing the profitability and viability of energy projects. A lower LCOE indicates a more cost-competitive energy source
B47: The Weighted Average Cost of Capital (WACC) is considered in the calculation of the levelized cost of energy (LCOE) because it reflects the blended cost of capital across all sources, including equity and debt. By incorporating the WACC, the LCOE calculation accounts for the cost of financing the project, which is a significant component, especially in long-term projects.
B51: Calculate LCoE considering the WACC? | C51: No | F51: Default is "No" meaning that the Nominal interested rate as inserted in cell C8 will be used for the discount rate. If "Yes" is selected, the nominal WACC calculated from sheet 'WACC' will be used for the dicount rate.
B53: Levelized Cost of Electricity | C53: =+Calculations!C60 -> 0.1327624 | D53: EUR/kW | E53: =CONCATENATE("With a project lifetime of ",C6," years, the levelised costs of electricity, taking into account an annual agricultural impact of ",IF(C37>=0,"plus ","minus "),IF(C37<0,-ROUND(C37,2),ROUND(C37,2))," ",D37,", are ",ROUND(C53,3)," EUR/kWh or ",ROUND(C53*1000,2)," EUR per MWh.") -> With a project lifetime of 18 years, the levelised costs of electricity, taking into account an annual agricultural impact of plus 0 EUR, are 0.133 EUR/kWh or 132.76 EUR per MWh.
B55: Weighted Average Cost of Capital
B57: WACCnominal | C57: =+WACC!C13 -> 0.0616 | D57: %
B58: WACCreal | C58: =+WACC!C20 -> -0.009154748 | D58: %
B60: The Weighted Average Cost of Capital (WACC) is a key financial metric used to evaluate the cost of capital for a project. The WACC is used as the discount rate for evaluating the attractiveness of a project or investment. A project is considered worthwhile if it can deliver returns higher than the WACC. It serves as a hurdle rate, and if an investment opportunity has a lower Internal Rate of Return than its WACC, it is generally not considered an attractive investment.
B65: Project analysis tools
B67: PayBack | C67: =IF(Calculations!$C$71=0,"n.a.",Calculations!$C$71) -> n.a. | D67: years | E67: =IF(OR(ISERROR(C67),C67="n.a."),"With the given Input Parameters, no Payback can be calculated.",(CONCATENATE(ROUND(C67,2)," years are needed for payback of the PV system."))) -> With the given Input Parameters, no Payback can be calculated.
B69: The payback period of a project is the amount of time it takes to recover the cost of an investment through the cash flows generated by the investment. The payback period provides a simple assessment of investment recovery, it does not consider the time value of money or the specific profitability of the investment.
B74: Internal Rate of Return [IRR] | C74: =Calculations!$C$67 -> -0.086942079 | D74: % | E74: =IF(C80>0,CONCATENATE("The project is profitable with an internal rate of return of ",ROUND(C74*100,2),"%."),"The project is not economically viable.") -> The project is not economically viable.
B75: The Internal Rate of Return (IRR) is a crucial metric for evaluating the profitability of an investment. It represents the discount rate at which the net present value (NPV) of the project's expected cash flows equals zero. If the IRR is higher than the required rate of return, the investment is considered attractive and likely to generate positive returns. Conversely, if the IRR is lower than the required rate of return, the project is considered less attractive and less likely to generate positive returns.
...

Sheet WACC
B2: Weighted Average Cost of Capital | F2: Value
B4: CAPEX value | C4: ='Inputs&Results'!C25 -> 1600 | D4: % | E4: V | F4: ='Inputs&Results'!C25 -> 1600
B5: Equity | C5: ='Inputs&Results'!C26 -> 0.2 | D5: % | E5: E | F5: ='Inputs&Results'!C25*WACC!C5 -> 320
B6: Debt | C6: ='Inputs&Results'!C27 -> 0.8 | D6: % | E6: D | F6: ='Inputs&Results'!C25*WACC!C6 -> 1280
B7: Cost of equity | C7: ='Inputs&Results'!C28 -> 0.07 | D7: % | E7: Re | F7: =C7 -> 0.07
B8: Cost of debt | C8: ='Inputs&Results'!C29 -> 0.07 | D8: % | E8: Rd | F8: =C8 -> 0.07
B9: Tax rate | C9: ='Inputs&Results'!C30 -> 0.15 | D9: % | E9: Tc | F9: =C9 -> 0.15
B10: Inflation rate | C10: ='Inputs&Results'!C7 -> 0.071408475 | D10: %
B11: Equity: Debt ratio | C11: ='Inputs&Results'!C31 -> 0.25
B13: WACC (nominal) | C13: =(C5*C7)+(C6*C8*(1-C9)) -> 0.0616 | D13: %
B15: The nominal WACC does not account for inflation. It is the blended cost of capital, including equity and debt, without adjusting for the impact of inflation on the cost of capital. It is commonly used in practice and serves as the discount rate for nominal cash flows, which include inflation.
B20: WACC (real) | C20: =((C13+1)/(C10+1))-1 -> -0.009154748 | D20: %
B22: The real WACC factors in inflation and, therefore, is lower, all other things being equal, than a nominal WACC. It is used as the discount rate for real cash flows, which exclude the impact of inflation.

Sheet LoanCalculation
B3: Loan calculation taking into account unscheduled repayments
B5: Credit framework data
B9: Loan amount | E9: ='Inputs&Results'!C25*'Inputs&Results'!C27 -> 1280 | F9: from 'Inputs&Results' sheet
B10: Interest rate p.a. | E10: ='Inputs&Results'!C29 -> 0.07 | F10: from 'Inputs&Results' sheet
B11: Term in years | E11: 7
B12: Payment date | E12: 45292
B13: Monthly special repayment
B16: Further information
B17: Scheduled monthly annuity | E17: =IF(E11<>0,PMT(E10/12,E11*12,-E9),"") -> 19.31863 | F17: =1/((((1+(E10/12))^(E11*12))-1)/((((1+(E10/12))^(E11*12)))*E10/12))*E9 -> 19.31863 | G17: per year | H17: =E17*12 -> 231.82356
B18: Number of scheduled payments | E18: =IF(E11<>"",E11*12,"") -> 84
B19: Number of actual payments | E19: =COUNT(B25:B384) -> 84
B20: Total unscheduled repayments | E20: =SUM(F25:F384) -> 0
B21: Total interest | E21: =SUM(I25:I384) -> 342.76495
B23: Payment plan
B24: N°. Month | C24: Payment date | D24: Remaining debt at the beginning of the month | E24: Annuity | F24: Special repayment | G24: Payment Total amount | H24: Repayment | I24: Interest | J24: Remaining debt at the end of the month | M24: Payment Total amount | N24: Repayment | O24: Interest
B25: =IF(AND(E18<>0,E18<>""),1,"") -> 1 | C25: =IF(B25<>"",E12,"") -> 45292 | D25: =IF(B25<>"",E9,"") -> 1280 | E25: =IF(B25<>"",$E$17,"") -> 19.31863 | F25: =IF(B25<>"",$E$13,"") -> 0 | G25: =IF(B25<>"",E25+F25,"") -> 19.31863 | H25: =IF(B25<>"",E25+F25-I25,"") -> 11.851964 | I25: =IF(B25<>"",D25*$E$10/12,"") -> 7.4666667 | J25: =IF(B25<>"",D25-H25,"") -> 1268.148 | L25: Year 1 | M25: =SUM(G25:G36) -> 231.82356 | N25: =SUM(H25:H36) -> 146.87647 | O25: =SUM(I25:I36) -> 84.947093
B26: =IF(OR(ISERROR(IF(B25+1<=$E$18,B25+1,"")),J25<=0),"",IF(B25+1<=$E$18,B25+1,"")) -> 2 | C26: =IF(B26<>"",DATE(YEAR(C25),MONTH(C25)+1,DAY(C25)),"") -> 45323 | D26: =IF(B26<>"",J25,"") -> 1268.148 | E26: =IF(B26<>"",$E$17,"") -> 19.31863 | F26: =IF(B26<>"",$E$13,"") -> 0 | G26: =IF(B26<>"",E26+F26,"") -> 19.31863 | H26: =IF(B26<>"",E26+F26-I26,"") -> 11.9211 | I26: =IF(B26<>"",D26*$E$10/12,"") -> 7.3975302 | J26: =IF(B26<>"",D26-H26,"") -> 1256.2269 | L26: Year 2 | M26: =SUM(G37:G48) -> 231.82356 | N26: =SUM(H37:H48) -> 157.49418 | O26: =SUM(I37:I48) -> 74.329381
B27: =IF(OR(ISERROR(IF(B26+1<=$E$18,B26+1,"")),J26<=0),"",IF(B26+1<=$E$18,B26+1,"")) -> 3 | C27: =IF(B27<>"",DATE(YEAR(C26),MONTH(C26)+1,DAY(C26)),"") -> 45352 | D27: =IF(B27<>"",J26,"") -> 1256.2269 | E27: =IF(B27<>"",$E$17,"") -> 19.31863 | F27: =IF(B27<>"",$E$13,"") -> 0 | G27: =IF(B27<>"",E27+F27,"") -> 19.31863 | H27: =IF(B27<>"",E27+F27-I27,"") -> 11.99064 | I27: =IF(B27<>"",D27*$E$10/12,"") -> 7.3279905 | J27: =IF(B27<>"",D27-H27,"") -> 1244.2363 | L27: Year 3 | M27: =SUM(G49:G60) -> 231.82356 | N27: =SUM(H49:H60) -> 168.87945 | O27: =SUM(I49:I60) -> 62.944114
B28: =IF(OR(ISERROR(IF(B27+1<=$E$18,B27+1,"")),J27<=0),"",IF(B27+1<=$E$18,B27+1,"")) -> 4 | C28: =IF(B28<>"",DATE(YEAR(C27),MONTH(C27)+1,DAY(C27)),"") -> 45383 | D28: =IF(B28<>"",J27,"") -> 1244.2363 | E28: =IF(B28<>"",$E$17,"") -> 19.31863 | F28: =IF(B28<>"",$E$13,"") -> 0 | G28: =IF(B28<>"",E28+F28,"") -> 19.31863 | H28: =IF(B28<>"",E28+F28-I28,"") -> 12.060585 | I28: =IF(B28<>"",D28*$E$10/12,"") -> 7.2580451 | J28: =IF(B28<>"",D28-H28,"") -> 1232.1757 | L28: Year 4 | M28: =SUM(G61:G72) -> 231.82356 | N28: =SUM(H61:H72) -> 181.08776 | O28: =SUM(I61:I72) -> 50.735805
B29: =IF(OR(ISERROR(IF(B28+1<=$E$18,B28+1,"")),J28<=0),"",IF(B28+1<=$E$18,B28+1,"")) -> 5 | C29: =IF(B29<>"",DATE(YEAR(C28),MONTH(C28)+1,DAY(C28)),"") -> 45413 | D29: =IF(B29<>"",J28,"") -> 1232.1757 | E29: =IF(B29<>"",$E$17,"") -> 19.31863 | F29: =IF(B29<>"",$E$13,"") -> 0 | G29: =IF(B29<>"",E29+F29,"") -> 19.31863 | H29: =IF(B29<>"",E29+F29-I29,"") -> 12.130939 | I29: =IF(B29<>"",D29*$E$10/12,"") -> 7.1876916 | J29: =IF(B29<>"",D29-H29,"") -> 1220.0448 | L29: Year 5 | M29: =SUM(G73:G84) -> 231.82356 | N29: =SUM(H73:H84) -> 194.17861 | O29: =SUM(I73:I84) -> 37.644956
B30: =IF(OR(ISERROR(IF(B29+1<=$E$18,B29+1,"")),J29<=0),"",IF(B29+1<=$E$18,B29+1,"")) -> 6 | C30: =IF(B30<>"",DATE(YEAR(C29),MONTH(C29)+1,DAY(C29)),"") -> 45444 | D30: =IF(B30<>"",J29,"") -> 1220.0448 | E30: =IF(B30<>"",$E$17,"") -> 19.31863 | F30: =IF(B30<>"",$E$13,"") -> 0 | G30: =IF(B30<>"",E30+F30,"") -> 19.31863 | H30: =IF(B30<>"",E30+F30-I30,"") -> 12.201703 | I30: =IF(B30<>"",D30*$E$10/12,"") -> 7.1169278 | J30: =IF(B30<>"",D30-H30,"") -> 1207.8431 | L30: Year 6 | M30: =SUM(G85:G96) -> 231.82356 | N30: =SUM(H85:H96) -> 208.2158 | O30: =SUM(I85:I96) -> 23.607769
B31: =IF(OR(ISERROR(IF(B30+1<=$E$18,B30+1,"")),J30<=0),"",IF(B30+1<=$E$18,B30+1,"")) -> 7 | C31: =IF(B31<>"",DATE(YEAR(C30),MONTH(C30)+1,DAY(C30)),"") -> 45474 | D31: =IF(B31<>"",J30,"") -> 1207.8431 | E31: =IF(B31<>"",$E$17,"") -> 19.31863 | F31: =IF(B31<>"",$E$13,"") -> 0 | G31: =IF(B31<>"",E31+F31,"") -> 19.31863 | H31: =IF(B31<>"",E31+F31-I31,"") -> 12.272879 | I31: =IF(B31<>"",D31*$E$10/12,"") -> 7.0457512 | J31: =IF(B31<>"",D31-H31,"") -> 1195.5702 | L31: Year 7 | M31: =SUM(G97:G108) -> 231.82356 | N31: =SUM(H97:H108) -> 223.26773 | O31: =SUM(I97:I108) -> 8.5558323
B32: =IF(OR(ISERROR(IF(B31+1<=$E$18,B31+1,"")),J31<=0),"",IF(B31+1<=$E$18,B31+1,"")) -> 8 | C32: =IF(B32<>"",DATE(YEAR(C31),MONTH(C31)+1,DAY(C31)),"") -> 45505 | D32: =IF(B32<>"",J31,"") -> 1195.5702 | E32: =IF(B32<>"",$E$17,"") -> 19.31863 | F32: =IF(B32<>"",$E$13,"") -> 0 | G32: =IF(B32<>"",E32+F32,"") -> 19.31863 | H32: =IF(B32<>"",E32+F32-I32,"") -> 12.344471 | I32: =IF(B32<>"",D32*$E$10/12,"") -> 6.9741594 | J32: =IF(B32<>"",D32-H32,"") -> 1183.2257 | L32: Year 8 | M32: =SUM(G109:G120) -> 0 | N32: =SUM(H109:H120) -> 0 | O32: =SUM(I109:I120) -> 0
B33: =IF(OR(ISERROR(IF(B32+1<=$E$18,B32+1,"")),J32<=0),"",IF(B32+1<=$E$18,B32+1,"")) -> 9 | C33: =IF(B33<>"",DATE(YEAR(C32),MONTH(C32)+1,DAY(C32)),"") -> 45536 | D33: =IF(B33<>"",J32,"") -> 1183.2257 | E33: =IF(B33<>"",$E$17,"") -> 19.31863 | F33: =IF(B33<>"",$E$13,"") -> 0 | G33: =IF(B33<>"",E33+F33,"") -> 19.31863 | H33: =IF(B33<>"",E33+F33-I33,"") -> 12.41648 | I33: =IF(B33<>"",D33*$E$10/12,"") -> 6.90215 | J33: =IF(B33<>"",D33-H33,"") -> 1170.8092 | L33: Year 9 | M33: =SUM(G121:G132) -> 0 | N33: =SUM(H121:H132) -> 0 | O33: =SUM(I121:I132) -> 0
B34: =IF(OR(ISERROR(IF(B33+1<=$E$18,B33+1,"")),J33<=0),"",IF(B33+1<=$E$18,B33+1,"")) -> 10 | C34: =IF(B34<>"",DATE(YEAR(C33),MONTH(C33)+1,DAY(C33)),"") -> 45566 | D34: =IF(B34<>"",J33,"") -> 1170.8092 | E34: =IF(B34<>"",$E$17,"") -> 19.31863 | F34: =IF(B34<>"",$E$13,"") -> 0 | G34: =IF(B34<>"",E34+F34,"") -> 19.31863 | H34: =IF(B34<>"",E34+F34-I34,"") -> 12.48891 | I34: =IF(B34<>"",D34*$E$10/12,"") -> 6.8297206 | J34: =IF(B34<>"",D34-H34,"") -> 1158.3203 | L34: Year 10 | M34: =SUM(G133:G144) -> 0 | N34: =SUM(H133:H144) -> 0 | O34: =SUM(I133:I144) -> 0
B35: =IF(OR(ISERROR(IF(B34+1<=$E$18,B34+1,"")),J34<=0),"",IF(B34+1<=$E$18,B34+1,"")) -> 11 | C35: =IF(B35<>"",DATE(YEAR(C34),MONTH(C34)+1,DAY(C34)),"") -> 45597 | D35: =IF(B35<>"",J34,"") -> 1158.3203 | E35: =IF(B35<>"",$E$17,"") -> 19.31863 | F35: =IF(B35<>"",$E$13,"") -> 0 | G35: =IF(B35<>"",E35+F35,"") -> 19.31863 | H35: =IF(B35<>"",E35+F35-I35,"") -> 12.561762 | I35: =IF(B35<>"",D35*$E$10/12,"") -> 6.7568686 | J35: =IF(B35<>"",D35-H35,"") -> 1145.7586 | L35: Year 11 | M35: =SUM(G145:G156) -> 0 | N35: =SUM(H145:H156) -> 0 | O35: =SUM(I145:I156) -> 0
B36: =IF(OR(ISERROR(IF(B35+1<=$E$18,B35+1,"")),J35<=0),"",IF(B35+1<=$E$18,B35+1,"")) -> 12 | C36: =IF(B36<>"",DATE(YEAR(C35),MONTH(C35)+1,DAY(C35)),"") -> 45627 | D36: =IF(B36<>"",J35,"") -> 1145.7586 | E36: =IF(B36<>"",$E$17,"") -> 19.31863 | F36: =IF(B36<>"",$E$13,"") -> 0 | G36: =IF(B36<>"",E36+F36,"") -> 19.31863 | H36: =IF(B36<>"",E36+F36-I36,"") -> 12.635039 | I36: =IF(B36<>"",D36*$E$10/12,"") -> 6.6835916 | J36: =IF(B36<>"",D36-H36,"") -> 1133.1235 | L36: Year 12 | M36: =SUM(G157:G168) -> 0 | N36: =SUM(H157:H168) -> 0 | O36: =SUM(I157:I168) -> 0
B37: =IF(OR(ISERROR(IF(B36+1<=$E$18,B36+1,"")),J36<=0),"",IF(B36+1<=$E$18,B36+1,"")) -> 13 | C37: =IF(B37<>"",DATE(YEAR(C36),MONTH(C36)+1,DAY(C36)),"") -> 45658 | D37: =IF(B37<>"",J36,"") -> 1133.1235 | E37: =IF(B37<>"",$E$17,"") -> 19.31863 | F37: =IF(B37<>"",$E$13,"") -> 0 | G37: =IF(B37<>"",E37+F37,"") -> 19.31863 | H37: =IF(B37<>"",E37+F37-I37,"") -> 12.708743 | I37: =IF(B37<>"",D37*$E$10/12,"") -> 6.6098873 | J37: =IF(B37<>"",D37-H37,"") -> 1120.4148 | L37: Year 13 | M37: =SUM(G169:G180) -> 0 | N37: =SUM(H169:H180) -> 0 | O37: =SUM(I169:I180) -> 0
B38: =IF(OR(ISERROR(IF(B37+1<=$E$18,B37+1,"")),J37<=0),"",IF(B37+1<=$E$18,B37+1,"")) -> 14 | C38: =IF(B38<>"",DATE(YEAR(C37),MONTH(C37)+1,DAY(C37)),"") -> 45689 | D38: =IF(B38<>"",J37,"") -> 1120.4148 | E38: =IF(B38<>"",$E$17,"") -> 19.31863 | F38: =IF(B38<>"",$E$13,"") -> 0 | G38: =IF(B38<>"",E38+F38,"") -> 19.31863 | H38: =IF(B38<>"",E38+F38-I38,"") -> 12.782877 | I38: =IF(B38<>"",D38*$E$10/12,"") -> 6.5357529 | J38: =IF(B38<>"",D38-H38,"") -> 1107.6319 | L38: Year 14 | M38: =SUM(G181:G192) -> 0 | N38: =SUM(H181:H192) -> 0 | O38: =SUM(I181:I192) -> 0
B39: =IF(OR(ISERROR(IF(B38+1<=$E$18,B38+1,"")),J38<=0),"",IF(B38+1<=$E$18,B38+1,"")) -> 15 | C39: =IF(B39<>"",DATE(YEAR(C38),MONTH(C38)+1,DAY(C38)),"") -> 45717 | D39: =IF(B39<>"",J38,"") -> 1107.6319 | E39: =IF(B39<>"",$E$17,"") -> 19.31863 | F39: =IF(B39<>"",$E$13,"") -> 0 | G39: =IF(B39<>"",E39+F39,"") -> 19.31863 | H39: =IF(B39<>"",E39+F39-I39,"") -> 12.857444 | I39: =IF(B39<>"",D39*$E$10/12,"") -> 6.4611861 | J39: =IF(B39<>"",D39-H39,"") -> 1094.7745 | L39: Year 15 | M39: =SUM(G193:G204) -> 0 | N39: =SUM(H193:H204) -> 0 | O39: =SUM(I193:I204) -> 0
B40: =IF(OR(ISERROR(IF(B39+1<=$E$18,B39+1,"")),J39<=0),"",IF(B39+1<=$E$18,B39+1,"")) -> 16 | C40: =IF(B40<>"",DATE(YEAR(C39),MONTH(C39)+1,DAY(C39)),"") -> 45748 | D40: =IF(B40<>"",J39,"") -> 1094.7745 | E40: =IF(B40<>"",$E$17,"") -> 19.31863 | F40: =IF(B40<>"",$E$13,"") -> 0 | G40: =IF(B40<>"",E40+F40,"") -> 19.31863 | H40: =IF(B40<>"",E40+F40-I40,"") -> 12.932446 | I40: =IF(B40<>"",D40*$E$10/12,"") -> 6.3861844 | J40: =IF(B40<>"",D40-H40,"") -> 1081.842 | L40: Year 16 | M40: =SUM(G205:G216) -> 0 | N40: =SUM(H205:H216) -> 0 | O40: =SUM(I205:I216) -> 0
B41: =IF(OR(ISERROR(IF(B40+1<=$E$18,B40+1,"")),J40<=0),"",IF(B40+1<=$E$18,B40+1,"")) -> 17 | C41: =IF(B41<>"",DATE(YEAR(C40),MONTH(C40)+1,DAY(C40)),"") -> 45778 | D41: =IF(B41<>"",J40,"") -> 1081.842 | E41: =IF(B41<>"",$E$17,"") -> 19.31863 | F41: =IF(B41<>"",$E$13,"") -> 0 | G41: =IF(B41<>"",E41+F41,"") -> 19.31863 | H41: =IF(B41<>"",E41+F41-I41,"") -> 13.007885 | I41: =IF(B41<>"",D41*$E$10/12,"") -> 6.3107451 | J41: =IF(B41<>"",D41-H41,"") -> 1068.8341 | L41: Year 17 | M41: =SUM(G217:G228) -> 0 | N41: =SUM(H217:H228) -> 0 | O41: =SUM(I217:I228) -> 0
B42: =IF(OR(ISERROR(IF(B41+1<=$E$18,B41+1,"")),J41<=0),"",IF(B41+1<=$E$18,B41+1,"")) -> 18 | C42: =IF(B42<>"",DATE(YEAR(C41),MONTH(C41)+1,DAY(C41)),"") -> 45809 | D42: =IF(B42<>"",J41,"") -> 1068.8341 | E42: =IF(B42<>"",$E$17,"") -> 19.31863 | F42: =IF(B42<>"",$E$13,"") -> 0 | G42: =IF(B42<>"",E42+F42,"") -> 19.31863 | H42: =IF(B42<>"",E42+F42-I42,"") -> 13.083765 | I42: =IF(B42<>"",D42*$E$10/12,"") -> 6.2348658 | J42: =IF(B42<>"",D42-H42,"") -> 1055.7504 | L42: Year 18 | M42: =SUM(G229:G240) -> 0 | N42: =SUM(H229:H240) -> 0 | O42: =SUM(I229:I240) -> 0
B43: =IF(OR(ISERROR(IF(B42+1<=$E$18,B42+1,"")),J42<=0),"",IF(B42+1<=$E$18,B42+1,"")) -> 19 | C43: =IF(B43<>"",DATE(YEAR(C42),MONTH(C42)+1,DAY(C42)),"") -> 45839 | D43: =IF(B43<>"",J42,"") -> 1055.7504 | E43: =IF(B43<>"",$E$17,"") -> 19.31863 | F43: =IF(B43<>"",$E$13,"") -> 0 | G43: =IF(B43<>"",E43+F43,"") -> 19.31863 | H43: =IF(B43<>"",E43+F43-I43,"") -> 13.160087 | I43: =IF(B43<>"",D43*$E$10/12,"") -> 6.1585438 | J43: =IF(B43<>"",D43-H43,"") -> 1042.5903 | L43: Year 19 | M43: =SUM(G241:G252) -> 0 | N43: =SUM(H241:H252) -> 0 | O43: =SUM(I241:I252) -> 0
B44: =IF(OR(ISERROR(IF(B43+1<=$E$18,B43+1,"")),J43<=0),"",IF(B43+1<=$E$18,B43+1,"")) -> 20 | C44: =IF(B44<>"",DATE(YEAR(C43),MONTH(C43)+1,DAY(C43)),"") -> 45870 | D44: =IF(B44<>"",J43,"") -> 1042.5903 | E44: =IF(B44<>"",$E$17,"") -> 19.31863 | F44: =IF(B44<>"",$E$13,"") -> 0 | G44: =IF(B44<>"",E44+F44,"") -> 19.31863 | H44: =IF(B44<>"",E44+F44-I44,"") -> 13.236854 | I44: =IF(B44<>"",D44*$E$10/12,"") -> 6.0817766 | J44: =IF(B44<>"",D44-H44,"") -> 1029.3534 | L44: Year 20 | M44: =SUM(G253:G264) -> 0 | N44: =SUM(H253:H264) -> 0 | O44: =SUM(I253:I264) -> 0
B45: =IF(OR(ISERROR(IF(B44+1<=$E$18,B44+1,"")),J44<=0),"",IF(B44+1<=$E$18,B44+1,"")) -> 21 | C45: =IF(B45<>"",DATE(YEAR(C44),MONTH(C44)+1,DAY(C44)),"") -> 45901 | D45: =IF(B45<>"",J44,"") -> 1029.3534 | E45: =IF(B45<>"",$E$17,"") -> 19.31863 | F45: =IF(B45<>"",$E$13,"") -> 0 | G45: =IF(B45<>"",E45+F45,"") -> 19.31863 | H45: =IF(B45<>"",E45+F45-I45,"") -> 13.314069 | I45: =IF(B45<>"",D45*$E$10/12,"") -> 6.0045617 | J45: =IF(B45<>"",D45-H45,"") -> 1016.0394 | L45: Year 21 | M45: =SUM(G265:G276) -> 0 | N45: =SUM(H265:H276) -> 0 | O45: =SUM(I265:I276) -> 0
B46: =IF(OR(ISERROR(IF(B45+1<=$E$18,B45+1,"")),J45<=0),"",IF(B45+1<=$E$18,B45+1,"")) -> 22 | C46: =IF(B46<>"",DATE(YEAR(C45),MONTH(C45)+1,DAY(C45)),"") -> 45931 | D46: =IF(B46<>"",J45,"") -> 1016.0394 | E46: =IF(B46<>"",$E$17,"") -> 19.31863 | F46: =IF(B46<>"",$E$13,"") -> 0 | G46: =IF(B46<>"",E46+F46,"") -> 19.31863 | H46: =IF(B46<>"",E46+F46-I46,"") -> 13.391734 | I46: =IF(B46<>"",D46*$E$10/12,"") -> 5.9268963 | J46: =IF(B46<>"",D46-H46,"") -> 1002.6476 | L46: Year 22 | M46: =SUM(G277:G288) -> 0 | N46: =SUM(H277:H288) -> 0 | O46: =SUM(I277:I288) -> 0
B47: =IF(OR(ISERROR(IF(B46+1<=$E$18,B46+1,"")),J46<=0),"",IF(B46+1<=$E$18,B46+1,"")) -> 23 | C47: =IF(B47<>"",DATE(YEAR(C46),MONTH(C46)+1,DAY(C46)),"") -> 45962 | D47: =IF(B47<>"",J46,"") -> 1002.6476 | E47: =IF(B47<>"",$E$17,"") -> 19.31863 | F47: =IF(B47<>"",$E$13,"") -> 0 | G47: =IF(B47<>"",E47+F47,"") -> 19.31863 | H47: =IF(B47<>"",E47+F47-I47,"") -> 13.469853 | I47: =IF(B47<>"",D47*$E$10/12,"") -> 5.8487778 | J47: =IF(B47<>"",D47-H47,"") -> 989.17777 | L47: Year 23 | M47: =SUM(G289:G300) -> 0 | N47: =SUM(H289:H300) -> 0 | O47: =SUM(I289:I300) -> 0
B48: =IF(OR(ISERROR(IF(B47+1<=$E$18,B47+1,"")),J47<=0),"",IF(B47+1<=$E$18,B47+1,"")) -> 24 | C48: =IF(B48<>"",DATE(YEAR(C47),MONTH(C47)+1,DAY(C47)),"") -> 45992 | D48: =IF(B48<>"",J47,"") -> 989.17777 | E48: =IF(B48<>"",$E$17,"") -> 19.31863 | F48: =IF(B48<>"",$E$13,"") -> 0 | G48: =IF(B48<>"",E48+F48,"") -> 19.31863 | H48: =IF(B48<>"",E48+F48-I48,"") -> 13.548427 | I48: =IF(B48<>"",D48*$E$10/12,"") -> 5.7702037 | J48: =IF(B48<>"",D48-H48,"") -> 975.62935 | L48: Year 24 | M48: =SUM(G301:G312) -> 0 | N48: =SUM(H301:H312) -> 0 | O48: =SUM(I301:I312) -> 0
B49: =IF(OR(ISERROR(IF(B48+1<=$E$18,B48+1,"")),J48<=0),"",IF(B48+1<=$E$18,B48+1,"")) -> 25 | C49: =IF(B49<>"",DATE(YEAR(C48),MONTH(C48)+1,DAY(C48)),"") -> 46023 | D49: =IF(B49<>"",J48,"") -> 975.62935 | E49: =IF(B49<>"",$E$17,"") -> 19.31863 | F49: =IF(B49<>"",$E$13,"") -> 0 | G49: =IF(B49<>"",E49+F49,"") -> 19.31863 | H49: =IF(B49<>"",E49+F49-I49,"") -> 13.627459 | I49: =IF(B49<>"",D49*$E$10/12,"") -> 5.6911712 | J49: =IF(B49<>"",D49-H49,"") -> 962.00189 | L49: Year 25 | M49: =SUM(G313:G324) -> 0 | N49: =SUM(H313:H324) -> 0 | O49: =SUM(I313:I324) -> 0
...

Sheet Calculations
B2: LCoE
B4: Year | C4: CAPEX | D4: Annual energy production | E4: Energy sale | F4: OPEX | G4: Debt interests | H4: Loan repayment | I4: Residual debt | J4: Discount factor | K4: Discount factor with WACCnominal | L4: WACCC Yes = 1, No = 0 | M4: Present Value of Opex incl. Debt and loan repayment | N4: Present Value of Energy | O4: Cash flow | P4: Cumulative Cash flow | Q4: Agricultural influence | R4: Agricultural influence discounted | S4: Discounted Energy sale | T4: Cash flow of discounted values
C5: EUR | D5: kWh | E5: EUR | F5: EUR | J5: % | K5: % | M5: EUR | N5: kWh | O5: EUR | P5: EUR | Q5: EUR | R5: EUR
B6: 0 | C6: =+-'Inputs&Results'!C25 -> -1600 | I6: =C6*'Inputs&Results'!$C$27 -> -1280 | J6: 0 | K6: 0 | L6: =IF($C$58="Yes", 1,0) -> 0 | N6: =D6 -> 0 | O6: =C6 -> -1600 | P6: =C6 -> -1600 | Q6: =IF('Inputs&Results'!C37>=0,'Inputs&Results'!C37," ") -> 0
B7: =+B6+1 -> 1 | D7: =IF('Inputs&Results'!$C$6<Calculations!B7,0,'Inputs&Results'!$C$14*(1-'Inputs&Results'!$C$15)^Calculations!B6) -> 1500 | E7: =IF('Inputs&Results'!$C$6>=B7,D7*'Inputs&Results'!$C$35,0) -> 127.35 | F7: =-IF(D7>0,+'Inputs&Results'!$C$19,0) -> -32 | G7: =IF(LoanCalculation!$E$11>=Calculations!$B7,-LoanCalculation!$O25,0) -> -84.947093 | H7: =IF(LoanCalculation!$E$11>=Calculations!$B7,-LoanCalculation!$N25,0) -> -146.87647 | I7: =IF(I6<=0,I6-H7,"") -> -1133.1235 | J7: =1/(1+$C$54)^B7 -> 0.93457944 | K7: =1/(1+$C$55)^B7 -> 0.94197438 | L7: =IF($C$58="Yes", 1,0) -> 0 | M7: =IF(L7=0,(F7+G7+H7)*J7,(F7+G7+H7)*K7) -> -246.56408 | N7: =IF(L7=0,D7*J7,D7*K7) -> 1401.8692 | O7: =SUM(E7:H7) -> -136.47356 | P7: =P6+O7 -> -1736.4736 | Q7: =IF('Inputs&Results'!$C$6>=$B7,'Inputs&Results'!$C$37,0) -> 0 | R7: =IF(Q7=" ",0,Q7*J7) -> 0 | S7: =IF(L7=0,E7*J7,E7*K7) -> 119.01869 | T7: =S7+R7+M7 -> -127.54539
B8: =+B7+1 -> 2 | D8: =IF('Inputs&Results'!$C$6<Calculations!B8,0,'Inputs&Results'!$C$14*(1-'Inputs&Results'!$C$15)^Calculations!B7) -> 1495.5 | E8: =IF('Inputs&Results'!$C$6>=B8,D8*'Inputs&Results'!$C$35,0) -> 126.96795 | F8: =IF('Inputs&Results'!$C$6>=B8,IF($D8>0,+$F7*(1+'Inputs&Results'!$C$20),0),0) -> -32.64 | G8: =IF(LoanCalculation!$E$11>=Calculations!$B8,-LoanCalculation!$O26,0) -> -74.329381 | H8: =IF(LoanCalculation!$E$11>=Calculations!$B8,-LoanCalculation!$N26,0) -> -157.49418 | I8: =IF(I7<=0,I7-H8,"") -> -975.62935 | J8: =1/(1+$C$54)^B8 -> 0.87343873 | K8: =1/(1+$C$55)^B8 -> 0.88731573 | L8: =IF($C$58="Yes", 1,0) -> 0 | M8: =IF(L8=0,(F8+G8+H8)*J8,(F8+G8+H8)*K8) -> -230.99272 | N8: =IF(L8=0,D8*J8,D8*K8) -> 1306.2276 | O8: =SUM(E8:H8) -> -137.49561 | P8: =IF(O8=0,0,P7+O8) -> -1873.9692 | Q8: =IF('Inputs&Results'!$C$6>=$B8,'Inputs&Results'!$C$37,0) -> 0 | R8: =IF(Q8=" ",0,Q8*J8) -> 0 | S8: =IF(L8=0,E8*J8,E8*K8) -> 110.89872 | T8: =S8+R8+M8 -> -120.09399
B9: =+B8+1 -> 3 | D9: =IF('Inputs&Results'!$C$6<Calculations!B9,0,'Inputs&Results'!$C$14*(1-'Inputs&Results'!$C$15)^Calculations!B8) -> 1491.0135 | E9: =IF('Inputs&Results'!$C$6>=B9,D9*'Inputs&Results'!$C$35,0) -> 126.58705 | F9: =IF('Inputs&Results'!$C$6>=B9,IF($D9>0,+$F8*(1+'Inputs&Results'!$C$20),0),0) -> -33.2928 | G9: =IF(LoanCalculation!$E$11>=Calculations!$B9,-LoanCalculation!$O27,0) -> -62.944114 | H9: =IF(LoanCalculation!$E$11>=Calculations!$B9,-LoanCalculation!$N27,0) -> -168.87945 | I9: =IF(I8<=0,I8-H9,"") -> -806.7499 | J9: =1/(1+$C$54)^B9 -> 0.81629788 | K9: =1/(1+$C$55)^B9 -> 0.83582868 | L9: =IF($C$58="Yes", 1,0) -> 0 | M9: =IF(L9=0,(F9+G9+H9)*J9,(F9+G9+H9)*K9) -> -216.41393 | N9: =IF(L9=0,D9*J9,D9*K9) -> 1217.1112 | O9: =SUM(E9:H9) -> -138.52932 | P9: =IF(O9=0,0,P8+O9) -> -2012.4985 | Q9: =IF('Inputs&Results'!$C$6>=$B9,'Inputs&Results'!$C$37,0) -> 0 | R9: =IF(Q9=" ",0,Q9*J9) -> 0 | S9: =IF(L9=0,E9*J9,E9*K9) -> 103.33274 | T9: =S9+R9+M9 -> -113.08119
B10: =+B9+1 -> 4 | D10: =IF('Inputs&Results'!$C$6<Calculations!B10,0,'Inputs&Results'!$C$14*(1-'Inputs&Results'!$C$15)^Calculations!B9) -> 1486.5405 | E10: =IF('Inputs&Results'!$C$6>=B10,D10*'Inputs&Results'!$C$35,0) -> 126.20729 | F10: =IF('Inputs&Results'!$C$6>=B10,IF($D10>0,+$F9*(1+'Inputs&Results'!$C$20),0),0) -> -33.958656 | G10: =IF(LoanCalculation!$E$11>=Calculations!$B10,-LoanCalculation!$O28,0) -> -50.735805 | H10: =IF(LoanCalculation!$E$11>=Calculations!$B10,-LoanCalculation!$N28,0) -> -181.08776 | I10: =IF(I9<=0,I9-H10,"") -> -625.66214 | J10: =1/(1+$C$54)^B10 -> 0.76289521 | K10: =1/(1+$C$55)^B10 -> 0.7873292 | L10: =IF($C$58="Yes", 1,0) -> 0 | M10: =IF(L10=0,(F10+G10+H10)*J10,(F10+G10+H10)*K10) -> -202.76398 | N10: =IF(L10=0,D10*J10,D10*K10) -> 1134.0746 | O10: =SUM(E10:H10) -> -139.57494 | P10: =IF(O10=0,0,P9+O10) -> -2152.0734 | Q10: =IF('Inputs&Results'!$C$6>=$B10,'Inputs&Results'!$C$37,0) -> 0 | R10: =IF(Q10=" ",0,Q10*J10) -> 0 | S10: =IF(L10=0,E10*J10,E10*K10) -> 96.282933 | T10: =S10+R10+M10 -> -106.48105
B11: =+B10+1 -> 5 | D11: =IF('Inputs&Results'!$C$6<Calculations!B11,0,'Inputs&Results'!$C$14*(1-'Inputs&Results'!$C$15)^Calculations!B10) -> 1482.0808 | E11: =IF('Inputs&Results'!$C$6>=B11,D11*'Inputs&Results'!$C$35,0) -> 125.82866 | F11: =IF('Inputs&Results'!$C$6>=B11,IF($D11>0,+$F10*(1+'Inputs&Results'!$C$20),0),0) -> -34.637829 | G11: =IF(LoanCalculation!$E$11>=Calculations!$B11,-LoanCalculation!$O29,0) -> -37.644956 | H11: =IF(LoanCalculation!$E$11>=Calculations!$B11,-LoanCalculation!$N29,0) -> -194.17861 | I11: =IF(I10<=0,I10-H11,"") -> -431.48353 | J11: =1/(1+$C$54)^B11 -> 0.71298618 | K11: =1/(1+$C$55)^B11 -> 0.74164394 | L11: =IF($C$58="Yes", 1,0) -> 0 | M11: =IF(L11=0,(F11+G11+H11)*J11,(F11+G11+H11)*K11) -> -189.98329 | N11: =IF(L11=0,D11*J11,D11*K11) -> 1056.7032 | O11: =SUM(E11:H11) -> -140.63273 | P11: =IF(O11=0,0,P10+O11) -> -2292.7062 | Q11: =IF('Inputs&Results'!$C$6>=$B11,'Inputs&Results'!$C$37,0) -> 0 | R11: =IF(Q11=" ",0,Q11*J11) -> 0 | S11: =IF(L11=0,E11*J11,E11*K11) -> 89.714098 | T11: =S11+R11+M11 -> -100.26919
B12: =+B11+1 -> 6 | D12: =IF('Inputs&Results'!$C$6<Calculations!B12,0,'Inputs&Results'!$C$14*(1-'Inputs&Results'!$C$15)^Calculations!B11) -> 1477.6346 | E12: =IF('Inputs&Results'!$C$6>=B12,D12*'Inputs&Results'!$C$35,0) -> 125.45118 | F12: =IF('Inputs&Results'!$C$6>=B12,IF($D12>0,+$F11*(1+'Inputs&Results'!$C$20),0),0) -> -35.330586 | G12: =IF(LoanCalculation!$E$11>=Calculations!$B12,-LoanCalculation!$O30,0) -> -23.607769 | H12: =IF(LoanCalculation!$E$11>=Calculations!$B12,-LoanCalculation!$N30,0) -> -208.2158 | I12: =IF(I11<=0,I11-H12,"") -> -223.26773 | J12: =1/(1+$C$54)^B12 -> 0.66634222 | K12: =1/(1+$C$55)^B12 -> 0.69860959 | L12: =IF($C$58="Yes", 1,0) -> 0 | M12: =IF(L12=0,(F12+G12+H12)*J12,(F12+G12+H12)*K12) -> -178.01609 | N12: =IF(L12=0,D12*J12,D12*K12) -> 984.61032 | O12: =SUM(E12:H12) -> -141.70297 | P12: =IF(O12=0,0,P11+O12) -> -2434.4091 | Q12: =IF('Inputs&Results'!$C$6>=$B12,'Inputs&Results'!$C$37,0) -> 0 | R12: =IF(Q12=" ",0,Q12*J12) -> 0 | S12: =IF(L12=0,E12*J12,E12*K12) -> 83.593416 | T12: =S12+R12+M12 -> -94.422674
B13: =+B12+1 -> 7 | D13: =IF('Inputs&Results'!$C$6<Calculations!B13,0,'Inputs&Results'!$C$14*(1-'Inputs&Results'!$C$15)^Calculations!B12) -> 1473.2017 | E13: =IF('Inputs&Results'!$C$6>=B13,D13*'Inputs&Results'!$C$35,0) -> 125.07482 | F13: =IF('Inputs&Results'!$C$6>=B13,IF($D13>0,+$F12*(1+'Inputs&Results'!$C$20),0),0) -> -36.037197 | G13: =IF(LoanCalculation!$E$11>=Calculations!$B13,-LoanCalculation!$O31,0) -> -8.5558323 | H13: =IF(LoanCalculation!$E$11>=Calculations!$B13,-LoanCalculation!$N31,0) -> -223.26773 | I13: =IF(I12<=0,I12-H13,"") -> 1.9895197e-13 | J13: =1/(1+$C$54)^B13 -> 0.62274974 | K13: =1/(1+$C$55)^B13 -> 0.65807233 | L13: =IF($C$58="Yes", 1,0) -> 0 | M13: =IF(L13=0,(F13+G13+H13)*J13,(F13+G13+H13)*K13) -> -166.81022 | N13: =IF(L13=0,D13*J13,D13*K13) -> 917.43597 | O13: =SUM(E13:H13) -> -142.78594 | P13: =IF(O13=0,0,P12+O13) -> -2577.1951 | Q13: =IF('Inputs&Results'!$C$6>=$B13,'Inputs&Results'!$C$37,0) -> 0 | R13: =IF(Q13=" ",0,Q13*J13) -> 0 | S13: =IF(L13=0,E13*J13,E13*K13) -> 77.890314 | T13: =S13+R13+M13 -> -88.919906
B14: =+B13+1 -> 8 | D14: =IF('Inputs&Results'!$C$6<Calculations!B14,0,'Inputs&Results'!$C$14*(1-'Inputs&Results'!$C$15)^Calculations!B13) -> 1468.7821 | E14: =IF('Inputs&Results'!$C$6>=B14,D14*'Inputs&Results'!$C$35,0) -> 124.6996 | F14: =IF('Inputs&Results'!$C$6>=B14,IF($D14>0,+$F13*(1+'Inputs&Results'!$C$20),0),0) -> -36.757941 | G14: =IF(LoanCalculation!$E$11>=Calculations!$B14,-LoanCalculation!$O32,0) -> 0 | H14: =IF(LoanCalculation!$E$11>=Calculations!$B14,-LoanCalculation!$N32,0) -> 0 | I14: =IF(I13<=0,I13-H14,"") | J14: =1/(1+$C$54)^B14 -> 0.5820091 | K14: =1/(1+$C$55)^B14 -> 0.61988727 | L14: =IF($C$58="Yes", 1,0) -> 0 | M14: =IF(L14=0,(F14+G14+H14)*J14,(F14+G14+H14)*K14) -> -21.393457 | N14: =IF(L14=0,D14*J14,D14*K14) -> 854.84455 | O14: =SUM(E14:H14) -> 87.941658 | P14: =IF(O14=0,0,P13+O14) -> -2489.2534 | Q14: =IF('Inputs&Results'!$C$6>=$B14,'Inputs&Results'!$C$37,0) -> 0 | R14: =IF(Q14=" ",0,Q14*J14) -> 0 | S14: =IF(L14=0,E14*J14,E14*K14) -> 72.576302 | T14: =S14+R14+M14 -> 51.182846
B15: =+B14+1 -> 9 | D15: =IF('Inputs&Results'!$C$6<Calculations!B15,0,'Inputs&Results'!$C$14*(1-'Inputs&Results'!$C$15)^Calculations!B14) -> 1464.3757 | E15: =IF('Inputs&Results'!$C$6>=B15,D15*'Inputs&Results'!$C$35,0) -> 124.3255 | F15: =IF('Inputs&Results'!$C$6>=B15,IF($D15>0,+$F14*(1+'Inputs&Results'!$C$20),0),0) -> -37.4931 | G15: =IF(LoanCalculation!$E$11>=Calculations!$B15,-LoanCalculation!$O33,0) -> 0 | H15: =IF(LoanCalculation!$E$11>=Calculations!$B15,-LoanCalculation!$N33,0) -> 0 | I15: =IF(I14<=0,I14-H15,"") | J15: =1/(1+$C$54)^B15 -> 0.54393374 | K15: =1/(1+$C$55)^B15 -> 0.58391793 | L15: =IF($C$58="Yes", 1,0) -> 0 | M15: =IF(L15=0,(F15+G15+H15)*J15,(F15+G15+H15)*K15) -> -20.393762 | N15: =IF(L15=0,D15*J15,D15*K15) -> 796.52338 | O15: =SUM(E15:H15) -> 86.8324 | P15: =IF(O15=0,0,P14+O15) -> -2402.421 | Q15: =IF('Inputs&Results'!$C$6>=$B15,'Inputs&Results'!$C$37,0) -> 0 | R15: =IF(Q15=" ",0,Q15*J15) -> 0 | S15: =IF(L15=0,E15*J15,E15*K15) -> 67.624835 | T15: =S15+R15+M15 -> 47.231072
B16: =+B15+1 -> 10 | D16: =IF('Inputs&Results'!$C$6<Calculations!B16,0,'Inputs&Results'!$C$14*(1-'Inputs&Results'!$C$15)^Calculations!B15) -> 1459.9826 | E16: =IF('Inputs&Results'!$C$6>=B16,D16*'Inputs&Results'!$C$35,0) -> 123.95252 | F16: =IF('Inputs&Results'!$C$6>=B16,IF($D16>0,+$F15*(1+'Inputs&Results'!$C$20),0),0) -> -38.242962 | G16: =IF(LoanCalculation!$E$11>=Calculations!$B16,-LoanCalculation!$O34,0) -> 0 | H16: =IF(LoanCalculation!$E$11>=Calculations!$B16,-LoanCalculation!$N34,0) -> 0 | I16: =IF(I15<=0,I15-H16,"") | J16: =1/(1+$C$54)^B16 -> 0.50834929 | K16: =1/(1+$C$55)^B16 -> 0.55003573 | L16: =IF($C$58="Yes", 1,0) -> 0 | M16: =IF(L16=0,(F16+G16+H16)*J16,(F16+G16+H16)*K16) -> -19.440783 | N16: =IF(L16=0,D16*J16,D16*K16) -> 742.18113 | O16: =SUM(E16:H16) -> 85.709562 | P16: =IF(O16=0,0,P15+O16) -> -2316.7115 | Q16: =IF('Inputs&Results'!$C$6>=$B16,'Inputs&Results'!$C$37,0) -> 0 | R16: =IF(Q16=" ",0,Q16*J16) -> 0 | S16: =IF(L16=0,E16*J16,E16*K16) -> 63.011178 | T16: =S16+R16+M16 -> 43.570395
B17: =+B16+1 -> 11 | D17: =IF('Inputs&Results'!$C$6<Calculations!B17,0,'Inputs&Results'!$C$14*(1-'Inputs&Results'!$C$15)^Calculations!B16) -> 1455.6027 | E17: =IF('Inputs&Results'!$C$6>=B17,D17*'Inputs&Results'!$C$35,0) -> 123.58067 | F17: =IF('Inputs&Results'!$C$6>=B17,IF($D17>0,+$F16*(1+'Inputs&Results'!$C$20),0),0) -> -39.007821 | G17: =IF(LoanCalculation!$E$11>=Calculations!$B17,-LoanCalculation!$O35,0) -> 0 | H17: =IF(LoanCalculation!$E$11>=Calculations!$B17,-LoanCalculation!$N35,0) -> 0 | I17: =IF(I16<=0,I16-H17,"") | J17: =1/(1+$C$54)^B17 -> 0.4750928 | K17: =1/(1+$C$55)^B17 -> 0.51811956 | L17: =IF($C$58="Yes", 1,0) -> 0 | M17: =IF(L17=0,(F17+G17+H17)*J17,(F17+G17+H17)*K17) -> -18.532335 | N17: =IF(L17=0,D17*J17,D17*K17) -> 691.54634 | O17: =SUM(E17:H17) -> 84.572845 | P17: =IF(O17=0,0,P16+O17) -> -2232.1386 | Q17: =IF('Inputs&Results'!$C$6>=$B17,'Inputs&Results'!$C$37,0) -> 0 | R17: =IF(Q17=" ",0,Q17*J17) -> 0 | S17: =IF(L17=0,E17*J17,E17*K17) -> 58.712284 | T17: =S17+R17+M17 -> 40.179949
B18: =+B17+1 -> 12 | D18: =IF('Inputs&Results'!$C$6<Calculations!B18,0,'Inputs&Results'!$C$14*(1-'Inputs&Results'!$C$15)^Calculations!B17) -> 1451.2359 | E18: =IF('Inputs&Results'!$C$6>=B18,D18*'Inputs&Results'!$C$35,0) -> 123.20992 | F18: =IF('Inputs&Results'!$C$6>=B18,IF($D18>0,+$F17*(1+'Inputs&Results'!$C$20),0),0) -> -39.787978 | G18: =IF(LoanCalculation!$E$11>=Calculations!$B18,-LoanCalculation!$O36,0) -> 0 | H18: =IF(LoanCalculation!$E$11>=Calculations!$B18,-LoanCalculation!$N36,0) -> 0 | I18: =IF(I17<=0,I17-H18,"") | J18: =1/(1+$C$54)^B18 -> 0.44401196 | K18: =1/(1+$C$55)^B18 -> 0.48805535 | L18: =IF($C$58="Yes", 1,0) -> 0 | M18: =IF(L18=0,(F18+G18+H18)*J18,(F18+G18+H18)*K18) -> -17.666338 | N18: =IF(L18=0,D18*J18,D18*K18) -> 644.36608 | O18: =SUM(E18:H18) -> 83.421946 | P18: =IF(O18=0,0,P17+O18) -> -2148.7167 | Q18: =IF('Inputs&Results'!$C$6>=$B18,'Inputs&Results'!$C$37,0) -> 0 | R18: =IF(Q18=" ",0,Q18*J18) -> 0 | S18: =IF(L18=0,E18*J18,E18*K18) -> 54.70668 | T18: =S18+R18+M18 -> 37.040342
B19: =+B18+1 -> 13 | D19: =IF('Inputs&Results'!$C$6<Calculations!B19,0,'Inputs&Results'!$C$14*(1-'Inputs&Results'!$C$15)^Calculations!B18) -> 1446.8821 | E19: =IF('Inputs&Results'!$C$6>=B19,D19*'Inputs&Results'!$C$35,0) -> 122.84029 | F19: =IF('Inputs&Results'!$C$6>=B19,IF($D19>0,+$F18*(1+'Inputs&Results'!$C$20),0),0) -> -40.583737 | G19: =IF(LoanCalculation!$E$11>=Calculations!$B19,-LoanCalculation!$O37,0) -> 0 | H19: =IF(LoanCalculation!$E$11>=Calculations!$B19,-LoanCalculation!$N37,0) -> 0 | I19: =IF(I18<=0,I18-H19,"") | J19: =1/(1+$C$54)^B19 -> 0.41496445 | K19: =1/(1+$C$55)^B19 -> 0.45973564 | L19: =IF($C$58="Yes", 1,0) -> 0 | M19: =IF(L19=0,(F19+G19+H19)*J19,(F19+G19+H19)*K19) -> -16.840808 | N19: =IF(L19=0,D19*J19,D19*K19) -> 600.40465 | O19: =SUM(E19:H19) -> 82.256557 | P19: =IF(O19=0,0,P18+O19) -> -2066.4601 | Q19: =IF('Inputs&Results'!$C$6>=$B19,'Inputs&Results'!$C$37,0) -> 0 | R19: =IF(Q19=" ",0,Q19*J19) -> 0 | S19: =IF(L19=0,E19*J19,E19*K19) -> 50.974355 | T19: =S19+R19+M19 -> 34.133547
... B36: =+B35+1 -> 30 | D36: =IF('Inputs&Results'!$C$6<Calculations!B36,0,'Inputs&Results'!$C$14*(1-'Inputs&Results'!$C$15)^Calculations!B35) -> 0 | E36: =IF('Inputs&Results'!$C$6>=B36,D36*'Inputs&Results'!$C$35,0) -> 0 | F36: =IF('Inputs&Results'!$C$6>=B36,IF($D36>0,+$F35*(1+'Inputs&Results'!$C$20),0),0) -> 0 | G36: =IF(LoanCalculation!$E$11>=Calculations!$B36,-LoanCalculation!$O54,0) -> 0 | H36: =IF(LoanCalculation!$E$11>=Calculations!$B36,-LoanCalculation!$N54,0) -> 0 | I36: =IF(I35<=0,I35-H36,"") | J36: =1/(1+$C$54)^B36 -> 0.13136712 | K36: =1/(1+$C$55)^B36 -> 0.16640743 | L36: =IF($C$58="Yes", 1,0) -> 0 | M36: =IF(L36=0,(F36+G36+H36)*J36,(F36+G36+H36)*K36) -> 0 | N36: =IF(L36=0,D36*J36,D36*K36) -> 0 | O36: =SUM(E36:H36) -> 0 | P36: =IF(O36=0,0,P35+O36) -> 0 | Q36: =IF('Inputs&Results'!$C$6>=$B36,'Inputs&Results'!$C$37,0) -> 0 | R36: =IF(Q36=" ",0,Q36*J36) -> 0 | S36: =IF(L36=0,E36*J36,E36*K36) -> 0 | T36: =S36+R36+M36 -> 0
D37: =SUM(D7:D36) -> 26322.393 | E37: =SUM(E7:E36) -> 2234.7712 | F37: =SUM(F6:F36) -> -685.194 | G37: =SUM(G6:G36) -> -342.76495 | H37: =SUM(H6:H36) -> -1280 | M37: =SUM(M6:M36) -> -1618.9217 | N37: =SUM(N6:N36) -> 14788.598 | O37: =SUM(O6:O36) -> -1673.1878 | P37: =SUM(P6:P36) -> -39475.322 | Q37: =SUM(Q6:Q36) -> 0 | R37: =SUM(R6:R36) -> 0 | S37: =SUM(S6:S36) -> 1255.552 | T37: =SUM(T6:T36) -> -363.36972
G38: =G37+H37 -> -1622.765
B39: Time period | C39: ='Inputs&Results'!C6 -> 18 | D39: years
B41: Actual
B43: Energy production | C43: =+D7 -> 1500 | D43: kWh
B44: Opex | C44: =+F7 -> -32 | D44: EUR
B46: Discounted Totals
B48: Energy production | C48: =$N$37 -> 14788.598 | D48: kWh
B49: Sum of Cash flow of discounted values | C49: =$T$37 -> -363.36972 | D49: EUR
B50: Agricultural influence | C50: =R37 -> 0
B52: LCoE
B54: Interest rate without WACC | C54: =+'Inputs&Results'!C8 -> 0.07 | D54: %
B55: Interest rate with WACCnominal | C55: =+WACC!C13 -> 0.0616 | D55: %
B56: Interest rate with WACCreal | C56: =+WACC!C20 -> -0.009154748 | D56: %
B58: Calculate LCoE considering the WACC? | C58: =+'Inputs&Results'!C51 -> No
B60: LCOE | C60: =-(C6+C49+C50)/C48 -> 0.1327624 | D60: EUR/kWh
B62: NPV & IRR
B66: NPV | C66: =IF(L6=0,NPV(C54,O7:O36)+O6,NPV(C55,O7:O36)+O6) -> -1963.3697 | D66: EUR
B67: IRR | C67: =IRR(O6:O36) -> -0.086942079 | D67: %
B69: Payback
B71: Payback | C71: =SUM(D76:D105) -> 0 | D71: years
B73: Year | C73: Accumulated flow | I73: Do not change
...

Sheet SensitivityLCOE
A1: Change of Parameters | B1: [A] System Price (€/kWp) | C1: [B] Energy Sales Price (€/kWh) | D1: [C] Interest rate (%) | E1: [D] Specific yield (kWh/kWp) | F1: [E] System Lifetime (years) | G1: [A] LCOE CAPEX [ct€/kWh] | H1: [B] LCOE Energy Sales Price [ct€/kWh] | I1: [C] LCOE Interest rate [ct€/kWh] | J1: [D] LCOE Specific yield [ct€/kWh] | K1: [E] LCOE System Lifetime [ct€/kWh] | L1: [A] Δ LCOE CAPEX [ct€/kWh] | M1: [B] Δ LCOE Energy Sales Price [ct€/kWh] | N1: [C] Δ LCOE Interest rate [ct€/kWh] | O1: [D] Δ LCOE Specific yield [ct€/kWh] | P1: [E] Δ LCOE System Lifetime [ct€/kWh]
A2: -0.5 | B2: =$B$7*(1+A2) -> 600 | C2: =$C$7*(1+A2) -> 0.05 | D2: =$D$7*(1+A2) -> 0.035 | E2: =$E$7*(1+A2) -> 650 | F2: =$F$7*(1+A2) -> 9 | G2: -0.0058191557 | H2: 0.13836169 | I2: 0.050123034 | J2: 0.27672338 | K2: 0.17505469 | L2: =G2-$G$7 -> -0.094180844 | M2: =H2-$H$7 -> 0.05 | N2: =I2-$I$7 -> -0.038238655 | O2: =J2-$J$7 -> 0.18836169 | P2: =K2-$K$7 -> 0.086693004 | AE2: Project Specific Inputs
A3: -0.4 | B3: =$B$7*(1+A3) -> 720 | C3: =$C$7*(1+A3) -> 0.06 | D3: =$D$7*(1+A3) -> 0.042 | E3: =$E$7*(1+A3) -> 780 | F3: =$F$7*(1+A3) -> 10.8 | G3: 0.013017013 | H3: 0.12836169 | I3: 0.057365919 | J3: 0.21393615 | K3: 0.15706351 | L3: =G3-$G$7 -> -0.075344675 | M3: =H3-$H$7 -> 0.04 | N3: =I3-$I$7 -> -0.03099577 | O3: =J3-$J$7 -> 0.12557446 | P3: =K3-$K$7 -> 0.068701823
A4: -0.3 | B4: =$B$7*(1+A4) -> 840 | C4: =$C$7*(1+A4) -> 0.07 | D4: =$D$7*(1+A4) -> 0.049 | E4: =$E$7*(1+A4) -> 910 | F4: =$F$7*(1+A4) -> 12.6 | G4: 0.031853182 | H4: 0.11836169 | I4: 0.064817198 | J4: 0.16908813 | K4: 0.13049712 | L4: =G4-$G$7 -> -0.056508507 | M4: =H4-$H$7 -> 0.03 | N4: =I4-$I$7 -> -0.02354449 | O4: =J4-$J$7 -> 0.080726438 | P4: =K4-$K$7 -> 0.042135427 | R4: Not defined values or negative values need to be deleted in the table manually. | AE4: General
A5: -0.2 | B5: =$B$7*(1+A5) -> 960 | C5: =$C$7*(1+A5) -> 0.08 | D5: =$D$7*(1+A5) -> 0.056 | E5: =$E$7*(1+A5) -> 1040 | F5: =$F$7*(1+A5) -> 14.4 | G5: 0.050689351 | H5: 0.10836169 | I5: 0.072471044 | J5: 0.13545211 | K5: 0.11199021 | L5: =G5-$G$7 -> -0.037672338 | M5: =H5-$H$7 -> 0.02 | N5: =I5-$I$7 -> -0.015890645 | O5: =J5-$J$7 -> 0.047090422 | P5: =K5-$K$7 -> 0.023628525
A6: -0.1 | B6: =$B$7*(1+A6) -> 1080 | C6: =$C$7*(1+A6) -> 0.09 | D6: =$D$7*(1+A6) -> 0.063 | E6: =$E$7*(1+A6) -> 1170 | F6: =$F$7*(1+A6) -> 16.2 | G6: 0.06952552 | H6: 0.098361689 | I6: 0.080321329 | J6: 0.10929077 | K6: 0.098507496 | L6: =G6-$G$7 -> -0.018836169 | M6: =H6-$H$7 -> 0.01 | N6: =I6-$I$7 -> -0.0080403595 | O6: =J6-$J$7 -> 0.020929077 | P6: =K6-$K$7 -> 0.010145807 | AE6: Time period | AF6: 18 | AG6: years
A7: 0 | B7: =B15 -> 1200 | C7: =C15 -> 0.1 | D7: =D15 -> 0.07 | E7: =E15 -> 1300 | F7: =F15 -> 18 | G7: 0.088361689 | H7: 0.088361689 | I7: 0.088361689 | J7: 0.088361689 | K7: 0.088361689 | L7: 0 | M7: 0 | N7: 0 | O7: 0 | P7: 0 | AE7: Inflation rate | AF7: 0.071408475 | AG7: %
A8: 0.1 | B8: =$B$7*(1+A8) -> 1320 | C8: =$C$7*(1+A8) -> 0.11 | D8: =$D$7*(1+A8) -> 0.077 | E8: =$E$7*(1+A8) -> 1430 | F8: =$F$7*(1+A8) -> 19.8 | G8: 0.10719786 | H8: 0.078361689 | I8: 0.096585569 | J8: 0.071237899 | K8: 0.084206891 | L8: =G8-$G$7 -> 0.018836169 | M8: =H8-$H$7 -> -0.01 | N8: =I8-$I$7 -> 0.0082238799 | O8: =J8-$J$7 -> -0.01712379 | P8: =K8-$K$7 -> -0.0041547979 | AE8: Nominal interest rate | AF8: 0.07 | AG8: %
A9: 0.2 | B9: =$B$7*(1+A9) -> 1440 | C9: =$C$7*(1+A9) -> 0.12 | D9: =$D$7*(1+A9) -> 0.084 | E9: =$E$7*(1+A9) -> 1560 | F9: =$F$7*(1+A9) -> 21.6 | G9: 0.12603403 | H9: 0.068361689 | I9: 0.10498628 | J9: 0.056968074 | K9: 0.077288855 | L9: =G9-$G$7 -> 0.037672338 | M9: =H9-$H$7 -> -0.02 | N9: =I9-$I$7 -> 0.016624591 | O9: =J9-$J$7 -> -0.031393615 | P9: =K9-$K$7 -> -0.011072834
A10: 0.3 | B10: =$B$7*(1+A10) -> 1560 | C10: =$C$7*(1+A10) -> 0.13 | D10: =$D$7*(1+A10) -> 0.091 | E10: =$E$7*(1+A10) -> 1690 | F10: =$F$7*(1+A10) -> 23.4 | G10: 0.1448702 | H10: 0.058361689 | I10: 0.11355705 | J10: 0.044893607 | K10: 0.07181347 | L10: =G10-$G$7 -> 0.056508507 | M10: =H10-$H$7 -> -0.03 | N10: =I10-$I$7 -> 0.025195358 | O10: =J10-$J$7 -> -0.043468082 | P10: =K10-$K$7 -> -0.016548218 | AE10: System
A11: 0.4 | B11: =$B$7*(1+A11) -> 1680 | C11: =$C$7*(1+A11) -> 0.14 | D11: =$D$7*(1+A11) -> 0.098 | E11: =$E$7*(1+A11) -> 1820 | F11: =$F$7*(1+A11) -> 25.2 | G11: 0.16370636 | H11: 0.048361689 | I11: 0.12229105 | J11: 0.034544063 | K11: 0.067423832 | L11: =G11-$G$7 -> 0.075344675 | M11: =H11-$H$7 -> -0.04 | N11: =I11-$I$7 -> 0.033929362 | O11: =J11-$J$7 -> -0.053817625 | P11: =K11-$K$7 -> -0.020937857
A12: 0.5 | B12: =$B$7*(1+A12) -> 1800 | C12: =$C$7*(1+A12) -> 0.15 | D12: =$D$7*(1+A12) -> 0.105 | E12: =$E$7*(1+A12) -> 1950 | F12: =$F$7*(1+A12) -> 27 | G12: 0.18254253 | H12: 0.038361689 | I12: 0.13118148 | J12: 0.025574459 | K12: 0.063868576 | L12: =G12-$G$7 -> 0.094180844 | M12: =H12-$H$7 -> -0.05 | N12: =I12-$I$7 -> 0.042819789 | O12: =J12-$J$7 -> -0.06278723 | P12: =K12-$K$7 -> -0.024493112 | AE12: Specific yield | AF12: 1500 | AG12: kWh/kWp
AE13: Nominal capacity of the system | AF13: 1 | AG13: kWp
AE14: Energy generated | AF14: 1500 | AG14: kWh
A15: Default | B15: 1200 | C15: 0.1 | D15: 0.07 | E15: 1300 | F15: 18 | AE15: Annual degradation | AF15: 0.003 | AG15: %
AE17: Operation and Maintenance
AE19: Maintenance & Operation | AF19: 32 | AG19: EUR
AE20: Yearly increase in O&M costs | AF20: 0.02 | AG20: %
AE22: Capital costs
AE24: Investment | AF24: 1600 | AG24: EUR/kWp
AF25: 1600 | AG25: EUR
AE26: Equity | AF26: 0.2 | AG26: %
AE27: Debt | AF27: 0.8 | AG27: %
AE28: Cost of equity | AF28: 0.07 | AG28: %
AE29: Cost of debt | AF29: 0.07 | AG29: %
AE30: Tax rate | AF30: 0.15 | AG30: %
AE31: Equity: Debt ratio | AF31: 0.25
AE33: Income
AE35: Energy sale price | AF35: 0.0849 | AG35: EUR/kWh
AE37: Annual profit or loss from agriculture | AF37: 0 | AG37: EUR
E94: Tracking
I95: Debt Interest Rate | Q95: Amortization | R95: IRR
I96: 3.46 | Q96: 14.5 | R96: 9
I97: 5.46 | Q97: 15.2 | R97: 8
I98: 7.46 | Q98: 15.8 | R98: 8
I99: 9.46 | Q99: 16.5 | R99: 6
I100: 11.46 | Q100: 17 | R100: 6
A103: Loan Tenor Sensitivity
E107: Fixed | I107: Loan Tenor | Q107: Amortization | R107: IRR
I108: 10 | Q108: 14.8 | R108: 6.78
...

Sheet SensitivitySystemCost
A1: System Price (€/kWp) | B1: LCOE [€/kWh] | C1: Amortization [years] | D1: IRR | E1: IRR [%] | F1: LCOE [€/MWh]
A2: 600 | B2: -0.0032766016 | C2: 10.766286 | D2: 0.078119931 | E2: =D2*100 -> 7.8119931 | U2: Project Specific Inputs
A3: 800 | B3: 0.023931198 | C3: 15.173901 | D3: 0.02302445 | E3: =D3*100 -> 2.302445 | H3: Not defined values or negative values need to be deleted in the table manually.
A4: 1000 | B4: 0.051138997 | D4: -0.014575074 | E4: =D4*100 -> -1.4575074 | F4: =B4*1000 -> 51.138997 | U4: General
A5: 1200 | B5: 0.078346797 | D5: -0.043281102 | E5: =D5*100 -> -4.3281102 | F5: =B5*1000 -> 78.346797
A6: 1400 | B6: 0.1055546 | D6: -0.066774178 | E6: =D6*100 -> -6.6774178 | F6: =B6*1000 -> 105.5546 | U6: Time period | V6: 18 | W6: years
A7: 1600 | B7: 0.1327624 | D7: -0.086942079 | E7: =D7*100 -> -8.6942079 | F7: =B7*1000 -> 132.7624 | U7: Inflation rate | V7: 0.071408475 | W7: %
A8: 1800 | B8: 0.1599702 | D8: -0.10488188 | E8: =D8*100 -> -10.488188 | F8: =B8*1000 -> 159.9702 | U8: Nominal interest rate | V8: 0.07 | W8: %
A9: 2000 | B9: 0.18717799 | D9: -0.12129586 | E9: =D9*100 -> -12.129586 | F9: =B9*1000 -> 187.17799
A10: 2200 | B10: 0.21438579 | D10: -0.13667309 | E10: =D10*100 -> -13.667309 | F10: =B10*1000 -> 214.38579 | U10: System
U12: Specific yield | V12: 1500 | W12: kWh/kWp
U13: Nominal capacity of the system | V13: 1 | W13: kWp
U14: Energy generated | V14: 1500 | W14: kWh
U15: Annual degradation | V15: 0.003 | W15: %
U17: Operation and Maintenance
U19: Maintenance & Operation | V19: 12 | W19: EUR
U20: Yearly increase in O&M costs | V20: 0.02 | W20: %
U22: Capital costs
U24: Investment | V24: dependent variable | W24: EUR/kWp
W25: EUR
U26: Equity | V26: 0.2 | W26: %
U27: Debt | V27: 0.8 | W27: %
U28: Cost of equity | V28: 0.07 | W28: %
U29: Cost of debt | V29: 0.07 | W29: %
U30: Tax rate | V30: 0.15 | W30: %
H31: Default Specific Yield | U31: Equity: Debt ratio | V31: 0.25
H32: 1600 | I32: kWh/kWp
U33: Income
U35: Energy sale price | V35: 0.0849 | W35: EUR/kWh
U37: Annual profit or loss from agriculture | V37: 0 | W37: EUR
C93: Tracking
E94: Debt Interest Rate | G94: Amortization | H94: IRR
E95: 3.46 | G95: 14.5 | H95: 9
E96: 5.46 | G96: 15.2 | H96: 8
E97: 7.46 | G97: 15.8 | H97: 8
E98: 9.46 | G98: 16.5 | H98: 6
E99: 11.46 | G99: 17 | H99: 6
A102: Loan Tenor Sensitivity
C106: Fixed | E106: Loan Tenor | G106: Amortization | H106: IRR
E107: 10 | G107: 14.8 | H107: 6.78
...

Sheet SensitivityEnergySalesPrice
A1: Energy Sales Price (EUR/kWh) | B1: LCOE [€/kWh] | C1: Amortization [years] | D1: IRR | E1: IRR [%] | F1: LCOE [€/MWh]
A2: 0.05 | B2: 0.1676624 | D2: -0.17405931 | E2: =D2*100 -> -17.405931 | F2: =B2*1000 -> 167.6624 | U2: Project Specific Inputs
A3: 0.06 | B3: 0.1576624 | D3: -0.14143746 | E3: =D3*100 -> -14.143746 | F3: =B3*1000 -> 157.6624 | H3: Not defined values or negative values need to be deleted in the table manually.
A4: 0.07 | B4: 0.1476624 | D4: -0.116546 | E4: =D4*100 -> -11.6546 | F4: =B4*1000 -> 147.6624 | U4: General
A5: 0.08 | B5: 0.1376624 | D5: -0.095960879 | E5: =D5*100 -> -9.5960879 | F5: =B5*1000 -> 137.6624
A6: 0.09 | B6: 0.1276624 | D6: -0.078129085 | E6: =D6*100 -> -7.8129085 | F6: =B6*1000 -> 127.6624 | U6: Time period | V6: 18 | W6: years
A7: 0.1 | B7: 0.1176624 | D7: -0.062208543 | E7: =D7*100 -> -6.2208543 | F7: =B7*1000 -> 117.6624 | U7: Inflation rate | V7: 0.071408475 | W7: %
A8: 0.11 | B8: 0.1076624 | D8: -0.04768916 | E8: =D8*100 -> -4.768916 | F8: =B8*1000 -> 107.6624 | U8: Nominal interest rate | V8: 0.07 | W8: %
A9: 0.12 | B9: 0.097662396 | D9: -0.03423747 | E9: =D9*100 -> -3.423747 | F9: =B9*1000 -> 97.662396
A10: 0.13 | B10: 0.087662396 | D10: -0.021622946 | E10: =D10*100 -> -2.1622946 | F10: =B10*1000 -> 87.662396 | U10: System
A11: 0.14 | B11: 0.077662396 | D11: -0.0096792438 | E11: =D11*100 -> -0.96792438 | F11: =B11*1000 -> 77.662396
A12: 0.15 | B12: 0.067662396 | C12: 17.76093 | D12: 0.0017178038 | E12: =D12*100 -> 0.17178038 | F12: =B12*1000 -> 67.662396 | U12: Specific yield | V12: 1500 | W12: kWh/kWp
A13: 0.16 | B13: 0.057662396 | C13: 16.348604 | D13: 0.012663472 | E13: =D13*100 -> 1.2663472 | F13: =B13*1000 -> 57.662396 | U13: Nominal capacity of the system | V13: 1 | W13: kWp
A14: 0.17 | B14: 0.047662396 | C14: 15.151695 | D14: 0.023232548 | E14: =D14*100 -> 2.3232548 | F14: =B14*1000 -> 47.662396 | U14: Energy generated | V14: 1500 | W14: kWh
A15: 0.18 | B15: 0.037662396 | C15: 14.123531 | D15: 0.033484872 | E15: =D15*100 -> 3.3484872 | F15: =B15*1000 -> 37.662396 | U15: Annual degradation | V15: 0.003 | W15: %
A16: 0.19 | B16: 0.027662396 | C16: 13.229911 | D16: 0.043469106 | E16: =D16*100 -> 4.3469106 | F16: =B16*1000 -> 27.662396
A17: 0.2 | B17: 0.017662396 | C17: 12.445197 | D17: 0.053225379 | E17: =D17*100 -> 5.3225379 | F17: =B17*1000 -> 17.662396 | U17: Operation and Maintenance
A18: 0.21 | B18: 0.0076623957 | C18: 11.749793 | D18: 0.062787181 | E18: =D18*100 -> 6.2787181 | F18: =B18*1000 -> 7.6623957
A19: 0.22 | B19: -0.0023376043 | C19: 11.129262 | D19: 0.072182754 | E19: =D19*100 -> 7.2182754 | F19: =B19*1000 -> -2.3376043 | U19: Maintenance & Operation | V19: 32 | W19: EUR
A20: 0.23 | B20: -0.012337604 | C20: 10.572587 | D20: 0.081436129 | E20: =D20*100 -> 8.1436129 | F20: =B20*1000 -> -12.337604 | U20: Yearly increase in O&M costs | V20: 0.02 | W20: %
A21: 0.24 | B21: -0.022337604 | C21: 10.068858 | D21: 0.090567916 | E21: =D21*100 -> 9.0567916 | F21: =B21*1000 -> -22.337604
A22: 0.25 | B22: -0.032337604 | C22: 9.6124841 | D22: 0.099595909 | E22: =D22*100 -> 9.9595909 | F22: =B22*1000 -> -32.337604 | U22: Capital costs
A23: 0.26 | B23: -0.042337604 | C23: 9.195515 | D23: 0.10853556 | E23: =D23*100 -> 10.853556 | F23: =B23*1000 -> -42.337604
A24: 0.27 | B24: -0.052337604 | C24: 8.8137639 | D24: 0.11740036 | E24: =D24*100 -> 11.740036 | F24: =B24*1000 -> -52.337604 | U24: Investment | V24: 1600 | W24: EUR/kWp
A25: 0.28 | B25: -0.062337604 | C25: 8.463018 | D25: 0.12620212 | E25: =D25*100 -> 12.620212 | F25: =B25*1000 -> -62.337604 | V25: 1600 | W25: EUR
A26: 0.29 | B26: -0.072337604 | C26: 8.138804 | D26: 0.13495123 | E26: =D26*100 -> 13.495123 | F26: =B26*1000 -> -72.337604 | U26: Equity | V26: 0.2 | W26: %
A27: 0.3 | B27: -0.082337604 | C27: 7.839045 | D27: 0.14365687 | E27: =D27*100 -> 14.365687 | F27: =B27*1000 -> -82.337604 | U27: Debt | V27: 0.8 | W27: %
U28: Cost of equity | V28: 0.07 | W28: %
U29: Cost of debt | V29: 0.07 | W29: %
U30: Tax rate | V30: 0.15 | W30: %
U31: Equity: Debt ratio | V31: 0.25
U33: Income
H35: Default | I35: 0.0849 | J35: = 4.2 MUR/kWp | U35: Energy sale price | V35: dependent variable | W35: EUR/kWh
I36: 0.0849
U37: Annual profit or loss from agriculture | V37: 0 | W37: EUR
C81: Tracking
E82: Debt Interest Rate | G82: Amortization | H82: IRR
E83: 3.46 | G83: 14.5 | H83: 9
E84: 5.46 | G84: 15.2 | H84: 8
E85: 7.46 | G85: 15.8 | H85: 8
...

Sheet SensitivitySpecificYield
A1: Specific Yield (kWh/kWp) | B1: LCOE [€/kWh] | C1: Amortization [years] | D1: IRR | E1: IRR [%] | F1: LCOE [€/MWh]
A2: 1200 | B2: 0.18717799 | D2: -0.12129586 | E2: =D2*100 -> -12.129586 | F2: =B2*1000 -> 187.17799 | U2: Project Specific Inputs
A3: 1300 | B3: 0.16624892 | D3: -0.10878477 | E3: =D3*100 -> -10.878477 | F3: =B3*1000 -> 166.24892
A4: 1400 | B4: 0.14830971 | D4: -0.097414864 | E4: =D4*100 -> -9.7414864 | F4: =B4*1000 -> 148.30971 | H4: Not defined values or negative values need to be deleted in the table manually. | U4: General
A5: 1500 | B5: 0.1327624 | D5: -0.086942079 | E5: =D5*100 -> -8.6942079 | F5: =B5*1000 -> 132.7624
A6: 1600 | B6: 0.1191585 | D6: -0.07719286 | E6: =D6*100 -> -7.719286 | F6: =B6*1000 -> 119.1585 | U6: Time period | V6: 18 | W6: years
A7: 1700 | B7: 0.10715506 | D7: -0.068039199 | E7: =D7*100 -> -6.8039199 | F7: =B7*1000 -> 107.15506 | U7: Inflation rate | V7: 0.071408475 | W7: %
A8: 1800 | B8: 0.09648533 | D8: -0.059383866 | E8: =D8*100 -> -5.9383866 | F8: =B8*1000 -> 96.48533 | U8: Nominal interest rate | V8: 0.07 | W8: %
U10: System
U12: Specific yield | V12: dependent variable | W12: kWh/kWp
U13: Nominal capacity of the system | V13: 1 | W13: kWp
U14: Energy generated | W14: kWh
U15: Annual degradation | V15: 0.003 | W15: %
U17: Operation and Maintenance
U19: Maintenance & Operation | V19: 32 | W19: EUR
U20: Yearly increase in O&M costs | V20: 0.02 | W20: %
U22: Capital costs
U24: Investment | V24: 1600 | W24: EUR/kWp
V25: 1600 | W25: EUR
U26: Equity | V26: 0.2 | W26: %
U27: Debt | V27: 0.8 | W27: %
H28: Default Specific Yield | U28: Cost of equity | V28: 0.07 | W28: %
H29: 1500 | I29: kWh/kWp | U29: Cost of debt | V29: 0.07 | W29: %
U30: Tax rate | V30: 0.15 | W30: %
U31: Equity: Debt ratio | V31: 0.25
U33: Income
U35: Energy sale price | V35: 0.0849 | W35: EUR/kWh
U37: Annual profit or loss from agriculture | V37: 0 | W37: EUR
C81: Tracking
E82: Debt Interest Rate | G82: Amortization | H82: IRR
E83: 3.46 | G83: 14.5 | H83: 9
E84: 5.46 | G84: 15.2 | H84: 8
E85: 7.46 | G85: 15.8 | H85: 8
E86: 9.46 | G86: 16.5 | H86: 6
E87: 11.46 | G87: 17 | H87: 6
A90: Loan Tenor Sensitivity
C94: Fixed | E94: Loan Tenor | G94: Amortization | H94: IRR
E95: 10 | G95: 14.8 | H95: 6.78
E96: 12 | G96: 15.1 | H96: 6.76
E97: 15
...

Sheet SensitivityDebtInterest
A1: Debt Interest Rate | B1: LCOE [€/kWh] | C1: Amortization [years] | D1: IRR | E1: IRR [%] | F1: LCOE [€/MWh]
